Workbook
Name \s: #REF!
Name \s: #REF!
Name \s: #REF!
Name \t: #REF!
Name \t: #REF!
Name \t: #REF!
Name __6Excel_BuiltIn_Print_Area_3_1_1_1_1_1: #REF!
Name __6Excel_BuiltIn_Print_Area_3_1_1_1_1_1: #REF!
Name __6Excel_BuiltIn_Print_Area_3_1_1_1_1_1: #REF!
Name __R: #REF!
Name __R: #REF!
Name __R: #REF!
Name _10Excel_BuiltIn_Print_Area_5_1: #REF!
Name _10Excel_BuiltIn_Print_Area_5_1: #REF!
Name _10Excel_BuiltIn_Print_Area_5_1: #REF!
Name _10Excel_BuiltIn_Print_Area_7_1: #REF!
Name _10Excel_BuiltIn_Print_Area_7_1: #REF!
Name _10Excel_BuiltIn_Print_Area_7_1: #REF!
Name _11Excel_BuiltIn_Print_Area_8_1: ([1]EMERGÊNCIA!$A$1:$N$213,[1]EMERGÊNCIA!$A$214:$N$290)
Name _12Excel_BuiltIn_Print_Area_6_1: #REF!
Name _12Excel_BuiltIn_Print_Area_6_1: #REF!
Name _12Excel_BuiltIn_Print_Area_6_1: #REF!
Name _12Excel_BuiltIn_Print_Area_9_1: #REF!
Name _12Excel_BuiltIn_Print_Area_9_1: #REF!
Name _12Excel_BuiltIn_Print_Area_9_1: #REF!
Name _13Excel_BuiltIn_Print_Titles_3_1: #REF!
Name _13Excel_BuiltIn_Print_Titles_3_1: #REF!
Name _13Excel_BuiltIn_Print_Titles_3_1: #REF!
Name _14Excel_BuiltIn_Print_Area_7_1: #REF!
Name _14Excel_BuiltIn_Print_Area_7_1: #REF!
Name _14Excel_BuiltIn_Print_Area_7_1: #REF!
Name _14Excel_BuiltIn_Print_Titles_4_1: #REF!
Name _14Excel_BuiltIn_Print_Titles_4_1: #REF!
Name _14Excel_BuiltIn_Print_Titles_4_1: #REF!
Name _15Excel_BuiltIn_Print_Area_8_1: ([1]EMERGÊNCIA!$A$1:$N$213,[1]EMERGÊNCIA!$A$214:$N$290)
Name _15Excel_BuiltIn_Print_Titles_5_1: #REF!
Name _15Excel_BuiltIn_Print_Titles_5_1: #REF!
Name _15Excel_BuiltIn_Print_Titles_5_1: #REF!
Name _16Excel_BuiltIn_Print_Titles_6_1: #REF!
Name _16Excel_BuiltIn_Print_Titles_6_1: #REF!
Name _16Excel_BuiltIn_Print_Titles_6_1: #REF!
Name _17Excel_BuiltIn_Print_Area_9_1: #REF!
Name _17Excel_BuiltIn_Print_Area_9_1: #REF!
Name _17Excel_BuiltIn_Print_Area_9_1: #REF!
Name _17Excel_BuiltIn_Print_Titles_7_1: #REF!
Name _17Excel_BuiltIn_Print_Titles_7_1: #REF!
Name _17Excel_BuiltIn_Print_Titles_7_1: #REF!
Name _18Excel_BuiltIn_Print_Titles_9_1: #REF!
Name _18Excel_BuiltIn_Print_Titles_9_1: #REF!
Name _18Excel_BuiltIn_Print_Titles_9_1: #REF!
Name _1Excel_BuiltIn__FilterDatabase_12_1: #REF!
Name _1Excel_BuiltIn__FilterDatabase_12_1: #REF!
Name _1Excel_BuiltIn__FilterDatabase_12_1: #REF!
Name _1Excel_BuiltIn_Print_Area_2_1: #REF!
Name _1Excel_BuiltIn_Print_Area_2_1: #REF!
Name _1Excel_BuiltIn_Print_Area_2_1: #REF!
Name _28Excel_BuiltIn_Print_Titles_3_1: #REF!
Name _28Excel_BuiltIn_Print_Titles_3_1: #REF!
Name _28Excel_BuiltIn_Print_Titles_3_1: #REF!
Name _2Excel_BuiltIn__FilterDatabase_12_1: #REF!

Sheet ANEXO 2
D1: Obra | E1: Bancos | G1: B.D.I. | I1: Encargos Sociais
D2: CPD DE CONTINGÊNCIA DE SERRA - CABEAMENTO ESTRUTURADO | E2: SINAPI - 05/2026 - Espírito Santo SBC - 06/2026 - Espírito Santo IOPES - 03/2026 - Espírito Santo | G2: 30,08% | I2: Desonerado: Horista: 102,22% Mensalista: 61,06%
A3: ANEXO 2 - PLANILHA ORÇAMENTÁRIA ESTIMATIVA
I4: Valor Final do Orçamento | J4: =J7+J23+J42 -> 351715.47
I5: BDI SERVIÇOS | J5: ='Anexo 3'!H25 -> 0.3008
A6: Item | B6: Código | C6: Banco | D6: Descrição | E6: Und | F6: Quant. | G6: Valor Unit | H6: BDI Diferenciado | I6: Valor Unit com BDI | J6: Total
A7: 1 | D7: CABEAMENTO ESTRUTURADO - FORNECIMENTO | F7: 1 | I7: =J8 + J9 + J10 + J11 + J12 + J13 + J14 + J15 + J16 + J17 + J18 + J19+J20+J21+J22 -> 309039.88 | J7: =TRUNC(F7 * I7,2) -> 309039.88
A8: 1.1 | B8: JFES-CAB-005 | C8: Próprio | D8: FORNECIMENTO DE RACK ABERTO 19" 40U | E8: UND | F8: 1 | G8: ='ANEXO 4'!J6 -> 3595.69 | H8: ='BDI dif'!$H$25 -> 0.1527 | I8: =TRUNC(TRUNC(G8 * H8, 2) + G8, 2) -> 4144.75 | J8: =TRUNC(F8 * I8,2) -> 4144.75
A9: 1.2 | B9: JFES-CAB-036 | C9: Próprio | D9: FORNECIMENTO DE DISTRIBUIDOR INTERNO ÓTICO (DIO) MODULAR HDX II 1U - MÓDULO BÁSICO | E9: UND | F9: 4 | G9: ='ANEXO 4'!J12 -> 2988.81 | H9: ='BDI dif'!$H$25 -> 0.1527 | I9: =TRUNC(TRUNC(G9 * H9, 2) + G9, 2) -> 3445.2 | J9: =TRUNC(F9 * I9,2) -> 13780.8
A10: 1.3 | B10: JFES-CAB-009 | C10: Próprio | D10: FORNECIMENTO DE PONTO DE CONEXÃO DESCARREGADO 12P BLINDADO CATEGORIA 6A | E10: UND | F10: 5 | G10: ='ANEXO 4'!J18 -> 897.5 | H10: ='BDI dif'!$H$25 -> 0.1527 | I10: =TRUNC(TRUNC(G10 * H10, 2) + G10, 2) -> 1034.54 | J10: =TRUNC(F10 * I10,2) -> 5172.7
A11: 1.4 | B11: JFES-CAB-007 | C11: Próprio | D11: FORNECIMENTO DE CONECTOR GIGALAN FÊMEA BLINDADO CATEGORIA 6A PADRÃO T568A/B. | E11: UND | F11: 156 | G11: ='ANEXO 4'!J24 -> 104 | H11: ='BDI dif'!$H$25 -> 0.1527 | I11: =TRUNC(TRUNC(G11 * H11, 2) + G11, 2) -> 119.88 | J11: =TRUNC(F11 * I11,2) -> 18701.28
A12: 1.5 | B12: JFES-CAB-006 | C12: Próprio | D12: FORNECIMENTO DE ORGANIZADOR HORIZONTAL DE CABOS 1U | E12: UND | F12: 4 | G12: ='ANEXO 4'!J30 -> 34.11 | H12: ='BDI dif'!$H$25 -> 0.1527 | I12: =TRUNC(TRUNC(G12 * H12, 2) + G12, 2) -> 39.31 | J12: =TRUNC(F12 * I12,2) -> 157.24
A13: 1.6 | B13: JFES-CAB-003 | C13: Próprio | D13: FORNECIMENTO DE CABO DE REDE GIGALAN F/UTP 23AWGX4P CAT. 6A | E13: M | F13: 1210 | G13: ='ANEXO 4'!J36 -> 18.4 | H13: ='BDI dif'!$H$25 -> 0.1527 | I13: =TRUNC(TRUNC(G13 * H13, 2) + G13, 2) -> 21.2 | J13: =TRUNC(F13 * I13,2) -> 25652
A14: 1.7 | B14: JFES-CAB-011 | C14: Próprio | D14: FORNECIMENTO DE SERVICE CABLE OM4 12F MM MPO12-UPC(M)/MPO12-UPC(M) 0.8D3/0.8D3 5M UT TIPO B | E14: UND | F14: 12 | G14: ='ANEXO 4'!J42 -> 3915.99 | H14: ='BDI dif'!$H$25 -> 0.1527 | I14: =TRUNC(TRUNC(G14 * H14, 2) + G14, 2) -> 4513.96 | J14: =TRUNC(F14 * I14,2) -> 54167.52
A15: 1.8 | B15: JFES-CAB-010 | C15: Próprio | D15: FORNECIMENTO DE SERVICE CABLE OM4 12F MM MPO12-UPC(M)/MPO12-UPC(M) 0.8D3/0.8D3 10M UT TIPO B | E15: UND | F15: 4 | G15: ='ANEXO 4'!J48 -> 3604.32 | H15: ='BDI dif'!$H$25 -> 0.1527 | I15: =TRUNC(TRUNC(G15 * H15, 2) + G15, 2) -> 4154.69 | J15: =TRUNC(F15 * I15,2) -> 16618.76
A16: 1.9 | B16: JFES-CAB-013 | C16: Próprio | D16: FORNECIMENTO DE SERVICE CABLE OM4 12F MM MPO12-UPC(M)/MPO12-UPC(M) 0.8D3/0.8D3 45M UT TIPO B | E16: UND | F16: 2 | G16: ='ANEXO 4'!J54 -> 8341.84 | H16: ='BDI dif'!$H$25 -> 0.1527 | I16: =TRUNC(TRUNC(G16 * H16, 2) + G16, 2) -> 9615.63 | J16: =TRUNC(F16 * I16,2) -> 19231.26
A17: 1.10 | B17: JFES-CAB-034 | C17: Próprio | D17: FORNECIMENTO DE DIO CASSETE HDX 12F OM4 LC-UPC/MPO12-UPC(F) TIPO B DIRETO | E17: UND | F17: 18 | G17: ='ANEXO 4'!J60 -> 3472.22 | H17: ='BDI dif'!$H$25 -> 0.1527 | I17: =TRUNC(TRUNC(G17 * H17, 2) + G17, 2) -> 4002.42 | J17: =TRUNC(F17 * I17,2) -> 72043.56
A18: 1.11 | B18: JFES-CAB-035 | C18: Próprio | D18: FORNECIMENTO DE DIO CASSETE HDX 12F OM4 LC-UPC/MPO12-UPC(F) TIPO B REVERSO | E18: UND | F18: 18 | G18: ='ANEXO 4'!J66 -> 3397.55 | H18: ='BDI dif'!$H$25 -> 0.1527 | I18: =TRUNC(TRUNC(G18 * H18, 2) + G18, 2) -> 3916.35 | J18: =TRUNC(F18 * I18,2) -> 70494.3
A19: 1.12 | B19: JFES-CAB-025 | C19: Próprio | D19: FORNECIMENTO DE PATCH PANEL MODULAR DESCARREGADO BLINDADO 24P CATEGORIA 6A | E19: UND | F19: 4 | G19: ='ANEXO 4'!J72 -> 442.11 | H19: ='BDI dif'!$H$25 -> 0.1527 | I19: =TRUNC(TRUNC(G19 * H19, 2) + G19, 2) -> 509.62 | J19: =TRUNC(F19 * I19,2) -> 2038.48
A20: 1.13 | B20: JFES-CAB-037 | C20: Próprio | D20: FORNECIMENTO DE PONTO DE CONEXÃO ÓPTICA TIPO HDX DE 3 POSIÇÕES | E20: UND | F20: 7 | G20: ='ANEXO 4'!J78 -> 781.51 | H20: ='BDI dif'!$H$25 -> 0.1527 | I20: =TRUNC(TRUNC(G20 * H20, 2) + G20, 2) -> 900.84 | J20: =TRUNC(F20 * I20,2) -> 6305.88
A21: 1.14 | B21: JFES-CAB-047 | C21: Próprio | D21: FORNECIMENTO DE VELCRO DUPLA FACE 3M 16MM PRETO | E21: UND | F21: 15 | G21: ='ANEXO 4'!J84 -> 9.45 | H21: ='BDI dif'!$H$25 -> 0.1527 | I21: =TRUNC(TRUNC(G21 * H21, 2) + G21, 2) -> 10.89 | J21: =TRUNC(F21 * I21,2) -> 163.35
A22: 1.15 | B22: JFES-CAB-048 | C22: Próprio | D22: FORNECIMENTO DE ABRAÇADEIRA DE NYLON T-30R 150x3,6MM | E22: UND | F22: 200 | G22: ='ANEXO 4'!J90 -> 1.6 | H22: ='BDI dif'!$H$25 -> 0.1527 | I22: =TRUNC(TRUNC(G22 * H22, 2) + G22, 2) -> 1.84 | J22: =TRUNC(F22 * I22,2) -> 368
A23: 2 | D23: CABEAMENTO ESTRUTURADO - INSTALAÇÃO | F23: 1 | I23: =J24 + J25 + J26 +J27+ J28 + J29 + J30 + J31 + J32 + J33 + J34 + J35 + J36 + J37 + J38+J39+J40+J41 -> 32111.19 | J23: =TRUNC(F23 * I23,2) -> 32111.19
A24: 2.1 | B24: JFES-CAB-016 | C24: Próprio | D24: INSTALAÇÃO DE RACK ABERTO 19" 40U | E24: UND | F24: 1 | G24: ='ANEXO 4'!J95 -> 635.23 | I24: =TRUNC(TRUNC(G24 * J5, 2) + G24, 2) -> 826.3 | J24: =TRUNC(F24 * I24,2) -> 826.3
A25: 2.2 | B25: JFES-CAB-014 | C25: Próprio | D25: INSTALAÇÃO DE CABO DE REDE GIGALAN F/UTP 23AWGX4P CAT. 6A | E25: M | F25: 1210 | G25: ='ANEXO 4'!J103 -> 4.31 | I25: =TRUNC(TRUNC(G25 * J5, 2) + G25, 2) -> 5.6 | J25: =TRUNC(F25 * I25,2) -> 6776
A26: 2.3 | B26: JFES-CAB-038 | C26: Próprio | D26: INSTALAÇÃO DE DISTRIBUIDOR INTERNO ÓTICO (DIO) MODULAR HDX II 1U, VÁZIO | E26: UND | F26: 1 | G26: ='ANEXO 4'!J110 -> 57.25 | I26: =TRUNC(TRUNC(G26 * J5, 2) + G26, 2) -> 74.47 | J26: =TRUNC(F26 * I26,2) -> 74.47
A27: 2.4 | B27: JFES-CAB-040 | C27: Próprio | D27: INSTALAÇÃO DE DISTRIBUIDOR INTERNO ÓTICO (DIO) MODULAR HDX II, COM MONTAGEM DE 2 CASSETES DIO 12F INSTALADO EM RACK | E27: UND | F27: 1 | G27: ='ANEXO 4'!J118 -> 263.34 | I27: =TRUNC(TRUNC(G27 * J5, 2) + G27, 2) -> 342.55 | J27: =TRUNC(F27 * I27,2) -> 342.55
A28: 2.5 | B28: JFES-CAB-042 | C28: Próprio | D28: INSTALAÇÃO DE DISTRIBUIDOR INTERNO ÓTICO (DIO) MODULAR HDX II, COM MONTAGEM DE 6 CASSETES DIO 12F INSTALADO EM RACK | E28: UND | F28: 1 | G28: ='ANEXO 4'!J125 -> 329.94 | I28: =TRUNC(TRUNC(G28 * J5, 2) + G28, 2) -> 429.18 | J28: =TRUNC(F28 * I28,2) -> 429.18
A29: 2.6 | B29: JFES-CAB-043 | C29: Próprio | D29: INSTALAÇÃO DE DISTRIBUIDOR INTERNO ÓTICO (DIO) MODULAR HDX II, COM MONTAGEM DE 12 CASSETES DIO 12F INSTALADO EM RACK | E29: UND | F29: 1 | G29: ='ANEXO 4'!J133 -> 439.64 | I29: =TRUNC(TRUNC(G29 * J5, 2) + G29, 2) -> 571.88 | J29: =TRUNC(F29 * I29,2) -> 571.88
A30: 2.7 | B30: JFES-CAB-017 | C30: Próprio | D30: INSTALAÇÃO DE ORGANIZADOR HORIZONTAL DE CABOS 1U | E30: UND | F30: 4 | G30: ='ANEXO 4'!J141 -> 18.61 | I30: =TRUNC(TRUNC(G30 * J5, 2) + G30, 2) -> 24.2 | J30: =TRUNC(F30 * I30,2) -> 96.8
A31: 2.8 | B31: JFES-CAB-018 | C31: Próprio | D31: INSTALAÇÃO DE PATCH PANEL MODULAR DESCARREGADO BLINDADO 24P, COM MONTAGEM DE 24 CONECTORES FÊMEA BLINDADOS CATEGORIA 6A. | E31: UND | F31: 4 | G31: ='ANEXO 4'!J148 -> 495.28 | I31: =TRUNC(TRUNC(G31 * J5, 2) + G31, 2) -> 644.26 | J31: =TRUNC(F31 * I31,2) -> 2577.04
A32: 2.9 | B32: JFES-CAB-039 | C32: Próprio | D32: INSTALAÇÃO DE PONTO DE CONEXÃO ÓPTICA TIPO HDX 3P, INCLUINDO A MONTAGEM DE 1 CASSETE DIO HDX PARA 12 FIBRAS | E32: UND | F32: 2 | G32: ='ANEXO 4'!J157 -> 197.14 | I32: =TRUNC(TRUNC(G32 * J5, 2) + G32, 2) -> 256.43 | J32: =TRUNC(F32 * I32,2) -> 512.86
A33: 2.10 | B33: JFES-CAB-044 | C33: Próprio | D33: INSTALAÇÃO DE PONTO DE CONEXÃO ÓPTICA TIPO HDX 3P, INCLUINDO A MONTAGEM DE 2 CASSETE DIO HDX PARA 12 FIBRAS | E33: UND | F33: 1 | G33: ='ANEXO 4'!J164 -> 224.44 | I33: =TRUNC(TRUNC(G33 * J5, 2) + G33, 2) -> 291.95 | J33: =TRUNC(F33 * I33,2) -> 291.95
A34: 2.11 | B34: JFES-CAB-041 | C34: Próprio | D34: INSTALAÇÃO DE PONTO DE CONEXÃO ÓPTICA TIPO HDX 3P, INCLUINDO A MONTAGEM DE 3 CASSETE DIO HDX PARA 12 FIBRAS | E34: UND | F34: 4 | G34: ='ANEXO 4'!J171 -> 311.72 | I34: =TRUNC(TRUNC(G34 * J5, 2) + G34, 2) -> 405.48 | J34: =TRUNC(F34 * I34,2) -> 1621.92
A35: 2.12 | B35: JFES-CAB-020 | C35: Próprio | D35: INSTALAÇÃO DE PONTO DE CONEXÃO DESCARREGADO 12P BLINDADO, COM MONTAGEM DE 12 CONECTORES FÊMEA BLINDADOS CATEGORIA 6A | E35: UND | F35: 5 | G35: ='ANEXO 4'!J178 -> 394.85 | I35: =TRUNC(TRUNC(G35 * J5, 2) + G35, 2) -> 513.62 | J35: =TRUNC(F35 * I35,2) -> 2568.1
A36: 2.13 | B36: JFES-CAB-022 | C36: Próprio | D36: INSTALAÇÃO DE SERVICE CABLE OM4 12F MM MPO12-UPC(M)/MPO12-UPC(M) 0.8D3/0.8D3 5M UT TIPO B | E36: UND | F36: 12 | G36: ='ANEXO 4'!J185 -> 3.44 | I36: =TRUNC(TRUNC(G36 * J5, 2) + G36, 2) -> 4.47 | J36: =TRUNC(F36 * I36,2) -> 53.64
A37: 2.14 | B37: JFES-CAB-021 | C37: Próprio | D37: INSTALAÇÃO DE SERVICE CABLE OM4 12F MM MPO12-UPC(M)/MPO12-UPC(M) 0.8D3/0.8D3 10M UT TIPO B | E37: UND | F37: 4 | G37: ='ANEXO 4'!J192 -> 6.91 | I37: =TRUNC(TRUNC(G37 * J5, 2) + G37, 2) -> 8.98 | J37: =TRUNC(F37 * I37,2) -> 35.92
A38: 2.15 | B38: JFES-CAB-023 | C38: Próprio | D38: INSTALAÇÃO DE SERVICE CABLE OM4 12F MM MPO12-UPC(M)/MPO12-UPC(M) 0.8D3/0.8D3 45M UT TIPO B | E38: UND | F38: 2 | G38: ='ANEXO 4'!J199 -> 31.13 | I38: =TRUNC(TRUNC(G38 * J5, 2) + G38, 2) -> 40.49 | J38: =TRUNC(F38 * I38,2) -> 80.98
A39: 2.16 | B39: JFES-CAB-031 | C39: Próprio | D39: CERTFICAÇÃO AVULSA DOS PONTOS DE REDE CAT. 6A COM EMISSÃO DE RELATÓRIO DO EQUIPAMENTO DE TESTE | E39: UND | F39: 84 | G39: ='ANEXO 4'!J204 -> 75.29 | I39: =TRUNC(TRUNC(G39 * J5, 2) + G39, 2) -> 97.93 | J39: =TRUNC(F39 * I39,2) -> 8226.12
A40: 2.17 | B40: JFES-CAB-032 | C40: Próprio | D40: CERTFICAÇÃO AVULSA DOS PONTOS DE FIBRA ÓPTICA COM EMISSÃO DE RELATÓRIO DO EQUIPAMENTO DE TESTE | E40: UND | F40: 36 | G40: ='ANEXO 4'!J210 -> 106.85 | I40: =TRUNC(TRUNC(G40 * J5, 2) + G40, 2) -> 138.99 | J40: =TRUNC(F40 * I40,2) -> 5003.64
...

Sheet Anexo 3
B1: JUSTIÇA FEDERAL SEÇÃO JUDICIÁRIA DO ESPÍRITO SANTO
A2: ANEXO 3 COMPOSIÇÃO DA TAXA DE BENEFÍCIOS E DESPESAS INDIRETA - BDI instalações
A4: Em que: | B4: Em que: | F4: G = taxa representativa de Garantias;
A5: PV = Preço de Venda; | B5: AC = taxa representativa das despesas de rateio da Administração Central; | F5: DF = taxa representativa das Despesas Financeiras;
A6: CD = Custo Direto; | B6: S = taxa representativa de Seguros; | F6: L = taxa representativa do Lucro;
A7: BDI = Benefício e Despesas Indiretas (lucro e despesas indiretas); | B7: R = taxa representativa de Riscos; | F7: I = taxa representativa da incidência de Impostos.
A8: NOTA: A fórmula adotada para o cálculo do BDI é a desenvolvido pelo Tribunal de Contas da União - TCU, apresentado no âmbito do acórdão TC 2622/2013.
A10: PERCENTUAIS DOS COMPONENTES DO BDI SUGERIDOS PELO TCU
A13: DESCRIÇÃO | B13: 1º QUARTIL | D13: 3º QUARTIL | F13: MÉDIO | H13: ADOTADO
A14: ADMINISTRAÇÃO CENTRAL - LUCRO | B14: A. Central | C14: Lucro | D14: A. Central | E14: Lucro | F14: A. Central | G14: Lucro | H14: A. Central | I14: Lucro
A15: CONSTRUÇÃO DE EDIFÍCIOS | B15: 0.03 | C15: 0.0616 | D15: 0.055 | E15: 0.0896 | F15: 0.04 | G15: 0.074 | H15: 0.04 | I15: 0.074
A16: DESPESAS FINANCEIRAS | B16: 0.0059 | D16: 0.0139 | F16: 0.0123 | H16: 0.0123
A17: SEGURO + GARANTIAS | B17: 0.008 | D17: 0.01 | F17: 0.008 | H17: 0.008
A18: RISCOS | B18: 0.0097 | D18: 0.0127 | F18: 0.0127 | H18: 0.0127
A19: PERCENTUAL TOTAL DOS TRIBUTOS: | B19: 0.0465 | D19: 0.0865 | F19: 0.054 | H19: =SUM(H20:I23) -> 0.1135
A20: ISS | B20: 0.01 | D20: 0.05 | F20: 0.03 | H20: 0.05
A21: PIS | B21: 0.0065 | D21: 0.0065 | F21: 0.0065 | H21: 0.0065
A22: CONFINS | B22: 0.03 | D22: 0.03 | F22: 0.03 | H22: 0.03
A23: CPRB (No caso de desoneração da folha de pagamento) | H23: 0.027
A25: PERCENTUAL DE BDI CALCULADO => | H25: =TRUNC((((1+H29+H30+H31)*(1+H32)*(1+H33))/(1-H34))-1,4) -> 0.3008 | J25: =H25 -> 0.3008
A27: RESUMO
A28: DESCRIÇÃO DOS ITENS | H28: ADOTADO
A29: AC = taxa representativa das despesas de rateio da Administração Central; | H29: =H15 -> 0.04
A30: SG = taxa representativa de Seguros + Garantias | H30: =H17 -> 0.008
A31: R = taxa representativa de Riscos; | H31: =H18 -> 0.0127
A32: DF = taxa representativa das Despesas Financeiras; | H32: =H16 -> 0.0123
A33: L = taxa representativa do Lucro; | H33: =I15 -> 0.074
A34: I = taxa representativa da incidência de Impostos. | H34: =H19 -> 0.1135
A36: FÓRMULA: BDI = (((1+AC+SG+R) X (1+DF) X (1+L)) / (1-I))-1
A38: Observações:
A39: 1 - Os percentuais de PIS e COFINS adotados referem-se a pessoas jurídcas sujeitas ao regime de incidência cumulativa. Eventuais ajustes devem ser feitos pelos lictantes de acordo com sua situação tributária.
A40: 2 - Percentual do ISS conforme lei municipal do estabelecimento prestador (considerado no orçamento, o máximo de 5%) . Item 31.01 da lista de serviços anexa à Lei complementar 116/2003 - serviços técnicos em edificações, eletrônica, eletrotécnica, mecânica, telecomunicações e congêneres (imposto devido no local do estabelecimento prestador)
A41: 3 - Foi considerada a mão de obra desonerada na cotação dos serviços. Caso os licitantes trabalhem no regime de desoneração da folha de pagamentos, deverá ser excluído da planilha de composição do BDI o percentual de 2,70% referente a Contribuição Previdenciária sobre a Receita Bruta - CPRB.
A42: 4 - Para alterar os percentuais adotados para a composição de BDI, utllizar as células de cor
A43: 5 - Alterar o nome e o CREA/CAU do autor da planilha.
A45: AUTOR DA PLANILHA REFERENCIAL DE BDI
A46: ENG. CIVIL DÉBORA RANGEL MACHADO SARDINHA
A47: CREA Nº 5.488D/ES

Sheet BDI dif
B1: JUSTIÇA FEDERAL SEÇÃO JUDICIÁRIA DO ESPÍRITO SANTO
A2: ANEXO 3.1 COMPOSIÇÃO DA TAXA DE BENEFÍCIOS E DESPESAS INDIRETA - BDI PARA MERO FORNECIMENTO DE MATERIAIS E EQUIPAMENTOS (diferenciado)
A4: Em que: | B4: Em que: | F4: G = taxa representativa de Garantias;
A5: PV = Preço de Venda; | B5: AC = taxa representativa das despesas de rateio da Administração Central; | F5: DF = taxa representativa das Despesas Financeiras;
A6: CD = Custo Direto; | B6: S = taxa representativa de Seguros; | F6: L = taxa representativa do Lucro;
A7: BDI = Benefício e Despesas Indiretas (lucro e despesas indiretas); | B7: R = taxa representativa de Riscos; | F7: I = taxa representativa da incidência de Impostos.
A8: NOTA: A fórmula adotada para o cálculo do BDI é a desenvolvido pelo Tribunal de Contas da União - TCU, apresentado no âmbito do acórdão TC 2622/2013.
A10: PERCENTUAIS DOS COMPONENTES DO BDI SUGERIDOS PELO TCU
A13: DESCRIÇÃO | B13: 1º QUARTIL | D13: 3º QUARTIL | F13: MÉDIO | H13: ADOTADO
A14: ADMINISTRAÇÃO CENTRAL - LUCRO | B14: A. Central | C14: Lucro | D14: A. Central | E14: Lucro | F14: A. Central | G14: Lucro | H14: A. Central | I14: Lucro
A15: CONSTRUÇÃO DE EDIFÍCIOS | B15: 0.015 | C15: 0.035 | D15: 0.0449 | E15: 0.0622 | F15: 0.0345 | G15: 0.0511 | H15: 0.0345 | I15: 0.0511
A16: DESPESAS FINANCEIRAS | B16: 0.0085 | D16: 0.0111 | F16: 0.0085 | H16: 0.0085
A17: SEGURO + GARANTIAS | B17: 0.003 | D17: 0.0082 | F17: 0.0048 | H17: 0.0048
A18: RISCOS | B18: 0.0056 | D18: 0.0089 | F18: 0.0085 | H18: 0.0085
A19: PERCENTUAL TOTAL DOS TRIBUTOS: | B19: 0.0365 | D19: 0.0365 | F19: 0.0365 | H19: =SUM(H20:I23) -> 0.0365
A20: ISS | B20: N/A | D20: N/A | F20: N/A | H20: N/A
A21: PIS | B21: 0.0065 | D21: 0.0065 | F21: 0.0065 | H21: 0.0065
A22: CONFINS | B22: 0.03 | D22: 0.03 | F22: 0.03 | H22: 0.03
A25: PERCENTUAL DE BDI CALCULADO => | H25: =TRUNC((((1+H29+H30+H31)*(1+H32)*(1+H33))/(1-H34))-1,4) -> 0.1527 | J25: =H25 -> 0.1527
A27: RESUMO
A28: DESCRIÇÃO DOS ITENS | H28: ADOTADO
A29: AC = taxa representativa das despesas de rateio da Administração Central; | H29: =H15 -> 0.0345
A30: SG = taxa representativa de Seguros + Garantias | H30: =H17 -> 0.0048
A31: R = taxa representativa de Riscos; | H31: =H18 -> 0.0085
A32: DF = taxa representativa das Despesas Financeiras; | H32: =H16 -> 0.0085
A33: L = taxa representativa do Lucro; | H33: =I15 -> 0.0511
A34: I = taxa representativa da incidência de Impostos. | H34: =H19 -> 0.0365
A36: FÓRMULA: BDI = (((1+AC+SG+R) X (1+DF) X (1+L)) / (1-I))-1
A38: Observações:
A39: 1 - Os percentuais de PIS e COFINS adotados referem-se a pessoas jurídcas sujeitas ao regime de incidência cumulativa. Eventuais ajustes devem ser feitos pelos lictantes de acordo com sua situação tributária.
A40: 2 - O ISS não é considerado na composição do BDI para o mero fornecimento de materiais e equipamentos.
A41: 3 - Optantes pelo SIMPLES nacional, devem indicar as alíquotas efetivas dos impostos, conforme seu faturamento dos últimos 12 meses
A42: 4 - Para alterar os percentuais adotados para a composição de BDI, utllizar as células de cor
A43: 5 - Alterar o nome e o CREA/CAU do autor da planilha.
A45: AUTOR DA PLANILHA REFERENCIAL DE BDI
A46: ENG. CIVIL DÉBORA RANGEL MACHADO SARDINHA
A47: CREA Nº 5.488D/ES

Sheet ANEXO 4
C1: Composições Analíticas com Preço Unitário | E1: Bancos | G1: B.D.I. | I1: Encargos Sociais
C2: DESONERADO - CPD DE SERRA - CABEAMENTO ESTRUTURADO | E2: SINAPI - 05/2026 - Espírito Santo SBC - 06/2026 - Espírito Santo IOPES - 03/2026 - Espírito Santo | G2: 30,08% | I2: Desonerado: Horista: 102,22% Mensalista: 61,06%
A3: Composições Analíticas com Preço Unitário
A4: Composições Principais
A5: 1.1 | B5: Código | C5: Banco | D5: Descrição | E5: Tipo | G5: Und | H5: Quant. | I5: Valor Unit | J5: Total
A6: Composição | B6: JFES-CAB-005 | C6: Próprio | D6: FORNECIMENTO DE RACK ABERTO 19" 40U | E6: INES - INSTALAÇÕES ESPECIAIS | G6: UND | J6: =J7 -> 3595.69
A7: Insumo | B7: JFES-INS-CAB-007 | C7: Próprio | D7: RACK 19" TIPO TORRE/COLUNA 40U ABERTO, COM DE GUIAS PARA CABOS VERTICAIS. REF.: GP RACKS | E7: Material | G7: UND | H7: 1 | I7: 3595.69 | J7: =TRUNC(I7*H7,2) -> 3595.69
A11: 1.2 | B11: Código | C11: Banco | D11: Descrição | E11: Tipo | G11: Und | H11: Quant. | I11: Valor Unit | J11: Total
A12: Composição | B12: JFES-CAB-004 | C12: Próprio | D12: FORNECIMENTO DE DISTRIBUIDOR INTERNO ÓTICO (DIO) MÓDULO BASICO DE 48 FIBRAS | E12: INES - INSTALAÇÕES ESPECIAIS | G12: UND | J12: =J13 -> 2988.81
A13: Insumo | B13: JFES-INS-CAB-015 | C13: Próprio | D13: DIO MODULAR HDX II 1U - MÓDULO BÁSICO, REF.: FURUKAWA (35265111)) | E13: Material | G13: UND | H13: 1 | I13: 2988.81 | J13: =TRUNC(I13*H13,2) -> 2988.81
A17: 1.3 | B17: Código | C17: Banco | D17: Descrição | E17: Tipo | G17: Und | H17: Quant. | I17: Valor Unit | J17: Total
A18: Composição | B18: JFES-CAB-009 | C18: Próprio | D18: FORNECIMENTO DE PONTO DE CONEXÃO DESCARREGADO 12P BLINDADO CATEGORIA 6A | E18: INES - INSTALAÇÕES ESPECIAIS | G18: UND | J18: =J19 -> 897.5
A19: Insumo | B19: JFES-INS-CAB-004 | C19: Próprio | D19: PONTO DE CONEXÃO DESCARREGADO 12 POSIÇÕES BLINDADO, REF.: LIGHTERA, CÓD.: 35150514 | E19: Material | G19: UND | H19: 1 | I19: 897.5 | J19: =TRUNC(I19*H19,2) -> 897.5
A23: 1.4 | B23: Código | C23: Banco | D23: Descrição | E23: Tipo | G23: Und | H23: Quant. | I23: Valor Unit | J23: Total
A24: Composição | B24: JFES-CAB-007 | C24: Próprio | D24: FORNECIMENTO DE CONECTOR GIGALAN FÊMEA BLINDADO CATEGORIA 6A PADRÃO T568A/B. | E24: INES - INSTALAÇÕES ESPECIAIS | G24: UND | J24: =J25 -> 104
A25: Insumo | B25: JFES-INS-CAB-011 | C25: Próprio | D25: CONECTORES FÊMEA BLINDADOS GIGALAN CAT. 6A, PADRÃO T568A/B. REF.: LIGHTERA, CÓD.: 35080100 | E25: Material | G25: UND | H25: 1 | I25: 104 | J25: =TRUNC(I25*H25,2) -> 104
A29: 1.5 | B29: Código | C29: Banco | D29: Descrição | E29: Tipo | G29: Und | H29: Quant. | I29: Valor Unit | J29: Total
A30: Composição | B30: JFES-CAB-006 | C30: Próprio | D30: FORNECIMENTO DE ORGANIZADOR HORIZONTAL DE CABOS 1U | E30: INES - INSTALAÇÕES ESPECIAIS | G30: UND | J30: =J31 -> 34.11
A31: Insumo | B31: 058975 | C31: SBC | D31: RACK - ORGANIZADOR HORIZONTAL DE CABOS 1 U | E31: Material | G31: UN | H31: 1 | I31: 34.11 | J31: =TRUNC(I31*H31,2) -> 34.11
A35: 1.6 | B35: Código | C35: Banco | D35: Descrição | E35: Tipo | G35: Und | H35: Quant. | I35: Valor Unit | J35: Total
A36: Composição | B36: JFES-CAB-003 | C36: Próprio | D36: FORNECIMENTO DE CABO DE REDE GIGALAN F/UTP 23AWGX4P CAT. 6A | E36: INES - INSTALAÇÕES ESPECIAIS | G36: M | J36: =J37 -> 18.4
A37: Insumo | B37: JFES-INS-CAB-012 | C37: Próprio | D37: CABO TRANSMISSÃO DE DADOS GIGALAN GREEN F/UTP 23AWGX4P CAT. 6A LSZH-3 CZ | E37: Material | G37: M | H37: 1.05 | I37: 17.53 | J37: =TRUNC(I37*H37,2) -> 18.4
A41: 1.7 | B41: Código | C41: Banco | D41: Descrição | E41: Tipo | G41: Und | H41: Quant. | I41: Valor Unit | J41: Total
A42: Composição | B42: JFES-CAB-011 | C42: Próprio | D42: FORNECIMENTO DE SERVICE CABLE OM4 12F MM MPO12-UPC(M)/MPO12-UPC(M) 0.8D3/0.8D3 5M UT TIPO B | E42: INES - INSTALAÇÕES ESPECIAIS | G42: UND | J42: =J43 -> 3915.99
A43: Insumo | B43: JFES-INS-CAB-008 | C43: Próprio | D43: CABO ÓPTICO multimodo OM4 12F, com 5m de comprimento e terminações MPO nas extremidades | E43: Material | G43: UND | H43: 1 | I43: 3915.99 | J43: =TRUNC(I43*H43,2) -> 3915.99
A47: 1.8 | B47: Código | C47: Banco | D47: Descrição | E47: Tipo | G47: Und | H47: Quant. | I47: Valor Unit | J47: Total
A48: Composição | B48: JFES-CAB-010 | C48: Próprio | D48: FORNECIMENTO DE SERVICE CABLE OM4 12F MM MPO12-UPC(M)/MPO12-UPC(M) 0.8D3/0.8D3 10M UT TIPO B | E48: INES - INSTALAÇÕES ESPECIAIS | G48: UND | J48: =J49 -> 3604.32
A49: Insumo | B49: JFES-INS-CAB-006 | C49: Próprio | D49: CABO ÓPTICO multimodo OM4 12F, com 10m de comprimento e terminações MPO nas extremidades | E49: Material | G49: UND | H49: 1 | I49: 3604.32 | J49: =TRUNC(I49*H49,2) -> 3604.32
A53: 1.9 | B53: Código | C53: Banco | D53: Descrição | E53: Tipo | G53: Und | H53: Quant. | I53: Valor Unit | J53: Total
A54: Composição | B54: JFES-CAB-013 | C54: Próprio | D54: FORNECIMENTO DE SERVICE CABLE OM4 12F MM MPO12-UPC(M)/MPO12-UPC(M) 0.8D3/0.8D3 45M UT TIPO B | E54: INES - INSTALAÇÕES ESPECIAIS | G54: UND | J54: =J55 -> 8341.84
A55: Insumo | B55: JFES-INS-CAB-010 | C55: Próprio | D55: CABO ÓPTICO multimodo OM4 12F, com 45m de comprimento e terminações MPO nas extremidades | E55: Material | G55: UND | H55: 1 | I55: 8341.84 | J55: =TRUNC(I55*H55,2) -> 8341.84
A59: 1.10 | B59: Código | C59: Banco | D59: Descrição | E59: Tipo | G59: Und | H59: Quant. | I59: Valor Unit | J59: Total
A60: Composição | B60: JFES-CAB-034 | C60: Próprio | D60: FORNECIMENTO DE DIO CASSETE HDX 12F OM4 LC-UPC/MPO12-UPC(F) TIPO B DIRETO | E60: INES - INSTALAÇÕES ESPECIAIS | G60: UND | J60: =J61 -> 3472.22
A61: Insumo | B61: JFES-INS-CAB-013 | C61: Próprio | D61: DIO CASSETE HDX 12F OM4 LC-UPC/MPO12-UPC(F) TIPO B DIRETO, REF.: FURUKAWA (35260429)) | E61: Material | G61: UND | H61: 1 | I61: 3472.22 | J61: =TRUNC(I61*H61,2) -> 3472.22
A65: 1.11 | B65: Código | C65: Banco | D65: Descrição | E65: Tipo | G65: Und | H65: Quant. | I65: Valor Unit | J65: Total
A66: Composição | B66: JFES-CAB-035 | C66: Próprio | D66: FORNECIMENTO DE DIO CASSETE HDX 12F OM4 LC-UPC/MPO12-UPC(F) TIPO B REVERSO | E66: INES - INSTALAÇÕES ESPECIAIS | G66: UND | J66: =J67 -> 3397.55
A67: Insumo | B67: JFES-INS-CAB-014 | C67: Próprio | D67: DIO CASSETE HDX 12F OM4 LC-UPC/MPO12-UPC(F) TIPO B REVERSO, REF.: FURUKAWA (35260428) | E67: Material | G67: UND | H67: 1 | I67: 3397.55 | J67: =TRUNC(I67*H67,2) -> 3397.55
A71: 1.12 | B71: Código | C71: Banco | D71: Descrição | E71: Tipo | G71: Und | H71: Quant. | I71: Valor Unit | J71: Total
A72: Composição | B72: JFES-CAB-025 | C72: Próprio | D72: FORNECIMENTO DE PATCH PANEL MODULAR DESCARREGADO BLINDADO 24P CATEGORIA 6A | E72: INES - INSTALAÇÕES ESPECIAIS | G72: UND | J72: =J73 -> 442.11
A73: Insumo | B73: JFES-CAB-010 | C73: Próprio | D73: PATCH PANEL MODULAR DESCARREGADO 24P BLINDADO. REF.: LIGHTERA, CÓD: 35050000 | E73: Material | G73: UND | H73: 1 | I73: 442.11 | J73: =TRUNC(I73*H73,2) -> 442.11
...

Sheet Anexo 5 - NÃO OPTANTES
A1: ANEXO 5
A2: ENCARGOS SOCIAIS SOBRE A MÃO DE OBRA - NÃO OPTANTES SIMPLES
A4: CÓDIGO | B4: DESCRIÇÃO | C4: COM DESONERAÇÃO | E4: SEM DESONERAÇÃO
C5: HORISTA | D5: MENSALISTA | E5: HORISTA | F5: MENSALISTA
C6: % | D6: % | E6: % | F6: %
A7: GRUPO A
A8: A1 | B8: INSS | C8: 0.1 | D8: 0.1 | E8: 0.2 | F8: 0.2
A9: A2 | B9: SESI | C9: 0.015 | D9: 0.015 | E9: 0.015 | F9: 0.015
A10: A3 | B10: SENAI | C10: 0.01 | D10: 0.01 | E10: 0.01 | F10: 0.01
A11: A4 | B11: INCRA | C11: 0.002 | D11: 0.002 | E11: 0.002 | F11: 0.002
A12: A5 | B12: SEBRAE | C12: 0.006 | D12: 0.006 | E12: 0.006 | F12: 0.006
A13: A6 | B13: Salário Educação | C13: 0.025 | D13: 0.025 | E13: 0.025 | F13: 0.025
A14: A7 | B14: Seguro contra Acidentes de Trabalho | C14: 0.03 | D14: 0.03 | E14: 0.03 | F14: 0.03
A15: A8 | B15: FGTS | C15: 0.08 | D15: 0.08 | E15: 0.08 | F15: 0.08
A16: A9 | B16: SECONCI | C16: 0.01 | D16: 0.01 | E16: 0.01 | F16: 0.01
A17: A | B17: TOTAL | C17: =SUM(C8:C16) -> 0.278 | D17: =SUM(D8:D16) -> 0.278 | E17: =SUM(E8:E16) -> 0.378 | F17: =SUM(F8:F16) -> 0.378
A18: GRUPO B
A19: B1 | B19: Repouso semanal remunerado | C19: 0.1778 | D19: Não incide | E19: 0.1778 | F19: Não incide
A20: B2 | B20: Feriados | C20: 0.0428 | D20: Não incide | E20: 0.0428 | F20: Não incide
A21: B3 | B21: Auxílio - enfermidade | C21: 0.0089 | D21: 0.0067 | E21: 0.0089 | F21: 0.0067
A22: B4 | B22: 13º salário | C22: 0.1108 | D22: 0.0831 | E22: 0.1108 | F22: 0.0831
A23: B5 | B23: Licença paternidade | C23: 0.0007 | D23: 0.0005 | E23: 0.0007 | F23: 0.0005
A24: B6 | B24: Faltas justificadas | C24: 0.0074 | D24: 0.0056 | E24: 0.0074 | F24: 0.0056
A25: B7 | B25: Dias de chuva | C25: 0.0147 | D25: Não incide | E25: 0.0147 | F25: Não incide
A26: B8 | B26: Auxílio acidente de trabalho | C26: 0.0003 | D26: 0.0002 | E26: 0.0003 | F26: 0.0002
A27: B9 | B27: Férias gozadas | C27: 0.1314 | D27: 0.0985 | E27: 0.1314 | F27: 0.0985
A28: B10 | B28: Salário Maternidade | C28: 0.0004 | D28: 0.0003 | E28: 0.0004 | F28: 0.0003
A29: B | B29: TOTAL | C29: 0.4952 | D29: =SUM(D19:D28) -> 0.1949 | E29: 0.4952 | F29: 0.1949
A30: GRUPO C
A31: C1 | B31: Aviso prévio indenizado | C31: 0.0622 | D31: 0.0467 | E31: 0.0622 | F31: 0.0467
A32: C2 | B32: Aviso prévio trabalhado | C32: 0.0016 | D32: 0.0012 | E32: 0.0016 | F32: 0.0012
A33: C3 | B33: Férias indenizadas | C33: 0.0214 | D33: 0.016 | E33: 0.0214 | F33: 0.016
A34: C4 | B34: Depósito rescisão sem justa causa | C34: 0.0266 | D34: 0.0199 | E34: 0.0266 | F34: 0.0199
A35: C5 | B35: Indenização adicional | C35: 0.0052 | D35: 0.0039 | E35: 0.0052 | F35: 0.0039
A36: C | B36: TOTAL | C36: 0.117 | D36: 0.0877 | E36: 0.117 | F36: 0.0877
A37: GRUPO D
A38: D1 | B38: Reincidência de Grupo A sobre Grupo B (sem considerar INNS sobre 13º, conforme Lei nº 14.973/2024) | C38: 0.1266 | D38: 0.0459 | E38: 0.1831 | F38: 0.0737
A39: D2 | B39: Reincidência de Grupo A sobre Aviso prévio Trabalhado e Reincidência de FGTS sobre aviso prévio indenizado | C39: 0.0054 | D39: 0.0041 | E39: 0.0052 | F39: 0.0042
A40: D | B40: TOTAL | C40: 0.132 | D40: 0.05 | E40: 0.1883 | F40: 0.0779
A41: TOTAL (A+B+C+D) | C41: =C40+C36+C29+C17 -> 1.0222 | D41: =D40+D36+D29+D17 -> 0.6106 | E41: 1.1785 | F41: 0.7385
...

Sheet Anexo 5.1 - SIMPLES
A1: ANEXO 5.1
A2: ENCARGOS SOCIAIS SOBRE A MÃO DE OBRA - OPTANTES SIMPLES
A4: CÓDIGO | B4: DESCRIÇÃO | C4: COM DESONERAÇÃO | E4: SEM DESONERAÇÃO
C5: HORISTA | D5: MENSALISTA | E5: HORISTA | F5: MENSALISTA
C6: % | D6: % | E6: % | F6: %
A7: GRUPO A
A8: A1 | B8: INSS | C8: 0.1 | D8: 0.1 | E8: 0.2 | F8: 0.2
A9: A2 | B9: SESI | C9: 0 | D9: 0 | E9: 0 | F9: 0
A10: A3 | B10: SENAI | C10: 0 | D10: 0 | E10: 0 | F10: 0
A11: A4 | B11: INCRA | C11: 0.002 | D11: 0.002 | E11: 0.002 | F11: 0.002
A12: A5 | B12: SEBRAE | C12: 0 | D12: 0 | E12: 0 | F12: 0
A13: A6 | B13: Salário Educação | C13: 0.025 | D13: 0.025 | E13: 0.025 | F13: 0.025
A14: A7 | B14: Seguro contra Acidentes de Trabalho | C14: 0.03 | D14: 0.03 | E14: 0.03 | F14: 0.03
A15: A8 | B15: FGTS | C15: 0.08 | D15: 0.08 | E15: 0.08 | F15: 0.08
A16: A9 | B16: SECONCI | C16: 0 | D16: 0 | E16: 0 | F16: 0
A17: A | B17: TOTAL | C17: =SUM(C8:C16) -> 0.237 | D17: =SUM(D8:D16) -> 0.237 | E17: =SUM(E8:E16) -> 0.337 | F17: =SUM(F8:F16) -> 0.337
A18: GRUPO B
A19: B1 | B19: Repouso semanal remunerado | C19: 0.1778 | D19: Não incide | E19: =C19 -> 0.1778 | F19: Não incide
A20: B2 | B20: Feriados | C20: 0.0428 | D20: Não incide | E20: =C20 -> 0.0428 | F20: Não incide
A21: B3 | B21: Auxílio - enfermidade | C21: 0.0089 | D21: 0.0067 | E21: =C21 -> 0.0089 | F21: 0.0067
A22: B4 | B22: 13º salário | C22: 0.1108 | D22: 0.0831 | E22: =C22 -> 0.1108 | F22: 0.0831
A23: B5 | B23: Licença paternidade | C23: 0.0007 | D23: 0.0005 | E23: =C23 -> 0.0007 | F23: 0.0005
A24: B6 | B24: Faltas justificadas | C24: 0.0074 | D24: 0.0056 | E24: =C24 -> 0.0074 | F24: 0.0056
A25: B7 | B25: Dias de chuva | C25: 0.0147 | D25: Não incide | E25: =C25 -> 0.0147 | F25: Não incide
A26: B8 | B26: Auxílio acidente de trabalho | C26: 0.0003 | D26: 0.0002 | E26: =C26 -> 0.0003 | F26: 0.0002
A27: B9 | B27: Férias gozadas | C27: 0.1314 | D27: 0.0985 | E27: =C27 -> 0.1314 | F27: 0.0985
A28: B10 | B28: Salário Maternidade | C28: 0.0004 | D28: 0.0003 | E28: =C28 -> 0.0004 | F28: 0.0003
A29: B | B29: TOTAL | C29: =SUM(C19:C28) -> 0.4952 | D29: =SUM(D19:D28) -> 0.1949 | E29: =C29 -> 0.4952 | F29: =SUM(F19:F28) -> 0.1949
A30: GRUPO C
A31: C1 | B31: Aviso prévio indenizado | C31: 0.0622 | D31: 0.0467 | E31: =C31 -> 0.0622 | F31: 0.0467
A32: C2 | B32: Aviso prévio trabalhado | C32: 0.0016 | D32: 0.0012 | E32: =C32 -> 0.0016 | F32: 0.0012
A33: C3 | B33: Férias indenizadas | C33: 0.0214 | D33: 0.016 | E33: =C33 -> 0.0214 | F33: 0.016
A34: C4 | B34: Depósito rescisão sem justa causa | C34: 0.0266 | D34: 0.0199 | E34: =C34 -> 0.0266 | F34: 0.0199
A35: C5 | B35: Indenização adicional | C35: 0.0052 | D35: 0.0039 | E35: =C35 -> 0.0052 | F35: 0.0039
A36: C | B36: TOTAL | C36: =SUM(C31:C35) -> 0.117 | D36: =SUM(D31:D35) -> 0.0877 | E36: =C36 -> 0.117 | F36: =SUM(F31:F35) -> 0.0877
A37: GRUPO D
A38: D1 | B38: Reincidência de Grupo A sobre Grupo B | C38: 0.1266 | D38: 0.0459 | E38: 0.1831 | F38: 0.0737
A39: D2 | B39: Reincidência de Grupo A sobre Aviso prévio Trabalhado e Reincidência de FGTS sobre aviso prévio indenizado | C39: 0.0054 | D39: 0.0041 | E39: 0.0052 | F39: 0.0042
A40: D | B40: TOTAL | C40: =SUM(C38:C39) -> 0.132 | D40: =SUM(D38:D39) -> 0.05 | E40: =SUM(E38:E39) -> 0.1883 | F40: =SUM(F38:F39) -> 0.0779
A41: TOTAL (A+B+C+D) | C41: =C17+C29+C36+C40 -> 0.9812 | D41: =D17+D29+D36+D40 -> 0.5696 | E41: =E17+E29+E36+E40 -> 1.1375 | F41: =F17+F29+F36+F40 -> 0.6975
...

Sheet Anexo 6
A1: JUSTIÇA FEDERAL DE PRIMEIRO GRAU Seção Judiciária do Espírito Santo Anexo 6 - TABELA BÁSICA DE PAGAMENTOS
A2: ='ANEXO 2'!D2 -> CPD DE CONTINGÊNCIA DE SERRA - CABEAMENTO ESTRUTURADO
A4: ITEM | B4: DESCRIÇÃO DOS SERVIÇOS | C4: % | D4: (R$)
A5: 01 | B5: CONCLUSÃO DA INSTALAÇÃO DOS CABOS ÓTICOS, CONFORME PROJETO | C5: =(D5/$F$22) -> 0.25719426 | D5: ='ANEXO 2'!J14+'ANEXO 2'!J15+'ANEXO 2'!J16+'ANEXO 2'!J36+'ANEXO 2'!J37+'ANEXO 2'!J38+'ANEXO 2'!I21*8+'ANEXO 2'!I22*100 -> 90459.2
A6: 02 | B6: CONCLUSÃO DA INSTALAÇÃO DOS CABOS METÁLICOS, CONFORME PROJETO | C6: =(D6/$F$22) -> 0.092939415 | D6: ='ANEXO 2'!J13+'ANEXO 2'!J25+'ANEXO 2'!I21*7+'ANEXO 2'!I22*100 -> 32688.23
A7: 03 | B7: CONCLUSÃO DA CERTIFICAÇÃO DOS PONTOS DE REDE METÁLICA | C7: =(D7/$F$22) -> 0.023388565 | D7: ='ANEXO 2'!J39 -> 8226.12
A8: 04 | B8: CONCLUSÃO DA CERTIFICAÇÃO DOS PONTOS DE REDE ÓTICA | C8: =(D8/$F$22) -> 0.014226386 | D8: ='ANEXO 2'!J40 -> 5003.64
A9: 05 | B9: CONCLUSÃO DA IDENTIFICAÇÃO DOS DISPOSITIVOS E CABOS COM ETIQUETA | C9: =(D9/$F$22) -> 0.0057485103 | D9: ='ANEXO 2'!J41 -> 2021.84
A10: 06 | B10: CONCLUSÃO DA MONTAGEM E INSTALAÇÃO DO RACK TELECOM NO DATACENTER | C10: =(D10/$F$22) -> 0.014133726 | D10: ='ANEXO 2'!J8+'ANEXO 2'!J24 -> 4971.05
A11: 07 | B11: CONCLUSÃO DA INSTALAÇÃO DOS PATCH PANEL E ORGANIZADOR DE CABOS NO RACK 01, PRESENTE NA SALA TELECOM | C11: =(D11/$F$22) -> 0.011641541 | D11: ='ANEXO 2'!I19+'ANEXO 2'!I31+'ANEXO 2'!I30+'ANEXO 2'!I12+'ANEXO 2'!I11*24 -> 4094.51
A12: 08 | B12: CONCLUSÃO DA INSTALAÇÃO DO DIO E CASSETES NO RACK 01, PRESENTE NA SALA TELECOM | C12: =(D12/$F$22) -> 0.033528778 | D12: ='ANEXO 2'!I9+'ANEXO 2'!I17*2+'ANEXO 2'!I27 -> 11792.59
A13: 09 | B13: CONCLUSÃO DA INSTALAÇÃO DOS PATCH PANELS E ORGANIZADORES DE CABOS NO RACK TELECOM, PRESENTE NO DATACENTER | C13: =(D13/$F$22) -> 0.034924622 | D13: ='ANEXO 2'!I19*3+'ANEXO 2'!I12*3+'ANEXO 2'!I30*3+'ANEXO 2'!I31*3+'ANEXO 2'!I11*72 -> 12283.53
A14: 10 | B14: CONCLUSÃO DA INSTALAÇÃO DOS DIOS E CASSETES NO RACK TELECOM, PRESENTE NO DATACENTER | C14: =(D14/$F$22) -> 0.23678956 | D14: ='ANEXO 2'!I9*3+'ANEXO 2'!I17*16+'ANEXO 2'!I18*2+'ANEXO 2'!J26+'ANEXO 2'!J28+'ANEXO 2'!J29 -> 83282.55
A15: 11 | B15: CONCLUSÃO DA INSTALAÇÃO DOS DIOS EM PONTOS DE CONSOLIDAÇÃO DE PISO (PARA FUTURO RACK DE SERVIDORES + STORAGE) | C15: =(D15/$F$22) -> 0.099899586 | D15: ='ANEXO 2'!I18*8+'ANEXO 2'!I20*3+'ANEXO 2'!I33+'ANEXO 2'!I34*2 -> 35136.23
A16: 12 | B16: CONCLUSÃO DA INSTALAÇÃO DOS CONECTORES RJ45 FÊMEA CAT. 6A EM PONTOS DE CONSOLIDAÇÃO DE PISO (PARA FUTURO RACK DE SERVIDORES + STORAGE) | C16: =(D16/$F$22) -> 0.016983728 | D16: ='ANEXO 2'!I10*2+'ANEXO 2'!I11*24+'ANEXO 2'!I35*2 -> 5973.44
A17: 13 | B17: CONCLUSÃO DA INSTALAÇÃO DOS DIOS EM PONTOS DE CONSOLIDAÇÃO DE PISO (PARA FUTURO RACK DE RISC) | C17: =(D17/$F$22) -> 0.051544477 | D17: ='ANEXO 2'!I18*4+'ANEXO 2'!I20*2+'ANEXO 2'!I32+'ANEXO 2'!I34 -> 18128.99
A18: 14 | B18: CONCLUSÃO DA INSTALAÇÃO DOS CONECTORES RJ45 FÊMEA CAT. 6A EM PONTOS DE CONSOLIDAÇÃO DE PISO (PARA FUTURO RACK DE RISC) | C18: =(D18/$F$22) -> 0.016983728 | D18: ='ANEXO 2'!I10*2+'ANEXO 2'!I11*24+'ANEXO 2'!I35*2 -> 5973.44
A19: 15 | B19: CONCLUSÃO DA INSTALAÇÃO DOS DIOS EM PONTOS DE CONSOLIDAÇÃO DE PISO (PARA FUTURO RACK DE TAPE LIBRARY) | C19: =(D19/$F$22) -> 0.051544477 | D19: ='ANEXO 2'!I18*4+'ANEXO 2'!I20*2+'ANEXO 2'!I32+'ANEXO 2'!I34 -> 18128.99
A20: 16 | B20: CONCLUSÃO DA INSTALAÇÃO DOS CONECTORES RJ45 FÊMEA CAT. 6A EM PONTOS DE CONSOLIDAÇÃO DE PISO (PARA FUTURO RACK DE TAPE LIBRARY) | C20: =(D20/$F$22) -> 0.0084918642 | D20: ='ANEXO 2'!I10+'ANEXO 2'!I11*12+'ANEXO 2'!I35 -> 2986.72
A21: 17 | B21: ADMINISTRAÇÃO LOCAL | C21: =(D21/$F$22) -> 0.030036779 | D21: ='ANEXO 2'!J43 -> 10564.4
E22: =SUM(C5:C21) -> 1 | F22: ='ANEXO 2'!I47 -> 351715.47
C23: =SUM(C5:C21) -> 1 | D23: =SUM(D5:D21) -> 351715.47
A24: Notas
A25: 1 | B25: A Contratada deverá apresentar Tabela de Pagamentos como condição para emissão da Ordem de Início dos Serviços
A26: 2 | B26: Para elaboração da sua Tabela, a Contratada deverá aplicar os percentuais constantes na Tabela Básica do Anexo 6 sobre o preço global contratado.
A27: 3 | B27: A Contratada não poderá alterar os percentuais constantes na Tabela Básica do Anexo 6. No entanto, poderá desmembrar eventos em outros menores, mantendo-se os totais dos subitens principais.
A28: 4 | B28: A Tabela apresentada deverá ser aprovada pelo gestor do contrato

Sheet Anexo 7- cronograma
A1: JUSTIÇA FEDERAL DE PRIMEIRO GRAU Seção Judiciária do Espírito Santo
A2: ANEXO 07
A3: ='Anexo 6'!A2:D2 -> CPD DE CONTINGÊNCIA DE SERRA - CABEAMENTO ESTRUTURADO
A4: CRONOGRAMA FÍSICO-FINANCEIRO BÁSICO
A5: ITEM | B5: SERVIÇOS | D5: MÊS 1 | E5: % | F5: MÊS 2 | G5: % | I5: ACUMULADO
A6: 01 | B6: ='ANEXO 2'!D7 -> CABEAMENTO ESTRUTURADO - FORNECIMENTO | C6: ='ANEXO 2'!J7 -> 309039.88 | D6: =TRUNC(E6*$C6,4) -> 216327.92 | E6: 0.7 | F6: =TRUNC(G6*$C6,4) -> 92711.964 | G6: 0.3 | I6: =E6+G6 -> 1 | K6: =D6+F6 -> 309039.88 | N6: =D6+D7 -> 232383.51
A7: 02 | B7: ='ANEXO 2'!D23 -> CABEAMENTO ESTRUTURADO - INSTALAÇÃO | C7: ='ANEXO 2'!J23 -> 32111.19 | D7: =TRUNC(E7*$C7,4) -> 16055.595 | E7: 0.5 | F7: =TRUNC(G7*$C7,4) -> 16055.595 | G7: 0.5 | I7: =E7+G7 -> 1 | K7: =D7+F7 -> 32111.19 | N7: =N6/'ANEXO 2'!I47 -> 0.6607145
A8: 03 | B8: ='ANEXO 2'!D42 -> ADMINISTRAÇÃO LOCAL | C8: ='ANEXO 2'!J42 -> 10564.4 | D8: =TRUNC(E8*$C8,4) -> 6972.504 | E8: 0.66 | F8: =TRUNC(G8*$C8,4) -> 3591.896 | G8: 0.34 | I8: =E8+G8 -> 1 | K8: =D8+F8 -> 10564.4
B9: TOTAL | C9: =SUM(C6:C8) -> 351715.47 | D9: =SUM(D6:D8) -> 239356.01 | E9: =D9/C9 -> 0.68053877 | F9: =SUM(F6:F8) -> 112359.46 | G9: =F9/C9 -> 0.31946123
B10: ACUMULADO | D10: =D9 -> 239356.01 | E10: =E9 -> 0.68053877 | F10: =F9+D10 -> 351715.47 | G10: =E10+G9 -> 1
A12: ____________________________________________________________________________________________________________________________________________
A13: Autora da Planilha Orçamentária
A14: Débora Rangel Machado Sardinha Engenheira Civil / CREA-ES 5488-D
A16: Notas
A18: 1 | B18: Alterar o nome e o Conselho Profissional competente do autor da planilha orçamentária, na proposta da licitação
A19: 2 | B19: Prazo para execução dos serviços deverá ser de, no máximo, 60 dias
A20: 3 | B20: Não poderão integrar as medições, materiais postos na obra. Para faturamento, os serviços deverão estar testados e aprovados.
